BEGIN:VCALENDAR
VERSION:2.0
PRODID:-//wp-events-plugin.com//7.2.3.1//EN
TZID:Europe/Paris
X-WR-TIMEZONE:Europe/Paris
BEGIN:VEVENT
UID:57@manchenumerique.fr
DTSTART:20240911T230000Z
DTEND:20240911T230000Z
DTSTAMP:20240528T124019Z
URL:https://manchenumerique.fr/evenements/etoile-de-la-fibre/
SUMMARY:Etoile de la fibre
DESCRIPTION:Co-organisé avec Manche Fibre
CATEGORIES:Manche Numérique
END:VEVENT
END:VCALENDAR