BEGIN:VCALENDAR
VERSION:2.0
PRODID:-//wp-events-plugin.com//7.2.3.1//EN
TZID:Europe/Paris
X-WR-TIMEZONE:Europe/Paris
BEGIN:VEVENT
UID:56@manchenumerique.fr
DTSTART;VALUE=DATE:20241009
DTEND;VALUE=DATE:20241012
DTSTAMP:20240528T123413Z
URL:https://manchenumerique.fr/evenements/declic-rencontres-nationales-202
 4-14eme-edition/
SUMMARY:Déclic Rencontres Nationales 2024 (14ème édition)
DESCRIPTION:Organisé par l’association Déclic et toute l’équipe de M
 anche numérique\, cet événement est dédié aux opérateurs publics de 
 services numériques et rassemble chaque année tous les membres du résea
 u de l’association Déclic.
CATEGORIES:Services aux Collectivités
END:VEVENT
END:VCALENDAR