BEGIN:VCALENDAR
VERSION:2.0
PRODID:-//wp-events-plugin.com//7.2.3.1//EN
TZID:Europe/Paris
X-WR-TIMEZONE:Europe/Paris
BEGIN:VEVENT
UID:50@manchenumerique.fr
DTSTART;TZID=Europe/Paris:20240209T143000
DTEND;TZID=Europe/Paris:20240209T170000
DTSTAMP:20240523T061634Z
URL:https://manchenumerique.fr/evenements/comite-syndical-du-09-02-2024/
SUMMARY:Comité syndical du 09/02/2024
DESCRIPTION:Pour les élus Manche Numérique\, vous pouvez accéder aux pi
 èces depuis votre cartable numérique i-délibre accessible ici : idelibr
 e.adullact.org\n\nOrdre du jour : 00_Ordre-du-jour_CS_09-02-2024
CATEGORIES:Comité syndical,Vie syndicale
LOCATION:Maison du Département - Salle des sessions\, Route de Candol\, Sa
 int-Lô\, 50000\, France
X-APPLE-STRUCTURED-LOCATION;VALUE=URI;X-ADDRESS=Route de Candol\, Saint-Lô
 \, 50000\, France;X-APPLE-RADIUS=100;X-TITLE=Maison du Département - Sall
 e des sessions:geo:0,0
END:VEVENT
BEGIN:VTIMEZONE
TZID:Europe/Paris
X-LIC-LOCATION:Europe/Paris
BEGIN:STANDARD
DTSTART:20231029T020000
TZOFFSETFROM:+0200
TZOFFSETTO:+0100
TZNAME:CET
END:STANDARD
END:VTIMEZONE
END:VCALENDAR