BEGIN:VCALENDAR
VERSION:2.0
PRODID:-//wp-events-plugin.com//7.2.3.1//EN
TZID:Europe/Paris
X-WR-TIMEZONE:Europe/Paris
BEGIN:VEVENT
UID:63@manchenumerique.fr
DTSTART;TZID=Europe/Paris:20241004T143000
DTEND;TZID=Europe/Paris:20241004T160000
DTSTAMP:20240930T070948Z
URL:https://manchenumerique.fr/evenements/comite-syndical-du-04-10-2024/
SUMMARY:Comité syndical du 04/10/2024
DESCRIPTION:En vidéo-conférence et dans les locaux de Manche Numérique
CATEGORIES:Comité syndical,Vie syndicale
LOCATION:Maison du Département - Salle des sessions\, Route de Candol\, Sa
 int-Lô\, 50000\, France
X-APPLE-STRUCTURED-LOCATION;VALUE=URI;X-ADDRESS=Route de Candol\, Saint-Lô
 \, 50000\, France;X-APPLE-RADIUS=100;X-TITLE=Maison du Département - Sall
 e des sessions:geo:0,0
END:VEVENT
BEGIN:VTIMEZONE
TZID:Europe/Paris
X-LIC-LOCATION:Europe/Paris
BEGIN:DAYLIGHT
DTSTART:20240331T030000
TZOFFSETFROM:+0100
TZOFFSETTO:+0200
TZNAME:CEST
END:DAYLIGHT
END:VTIMEZONE
END:VCALENDAR