BEGIN:VCALENDAR
VERSION:2.0
PRODID:-//wp-events-plugin.com//7.2.3.1//EN
TZID:Europe/Paris
X-WR-TIMEZONE:Europe/Paris
BEGIN:VEVENT
UID:65@manchenumerique.fr
DTSTART;TZID=Europe/Paris:20240603T133000
DTEND;TZID=Europe/Paris:20240603T140000
DTSTAMP:20240628T111619Z
URL:https://manchenumerique.fr/evenements/comite-syndical-du-04-10-2024-2/
SUMMARY:Comité syndical du 03/06/2024
DESCRIPTION:En vidéo-conférence et dans les locaux de Manche Numérique
CATEGORIES:Comité syndical,Vie syndicale
LOCATION:https://teams.microsoft.com/l/meetup-join/19%3ameeting_ZDljOTI2MTc
 tNDY3Ny00YWFiLWFlMTktNTRkMWY0N2JhNTVl%40thread.v2/0?context=%7b%22Tid%22%3
 a%2238d21f8a-b547-4848-a0d1-6ac2daeb59a3%22%2c%22Oid%22%3a%22c174384b-6508
 -44a0-b25a-989b4c62a2d8%22%7d
END:VEVENT
BEGIN:VTIMEZONE
TZID:Europe/Paris
X-LIC-LOCATION:Europe/Paris
BEGIN:DAYLIGHT
DTSTART:20240331T030000
TZOFFSETFROM:+0100
TZOFFSETTO:+0200
TZNAME:CEST
END:DAYLIGHT
END:VTIMEZONE
END:VCALENDAR