BEGIN:VCALENDAR
VERSION:2.0
PRODID:-//wp-events-plugin.com//7.2.3.1//EN
TZID:Europe/Paris
X-WR-TIMEZONE:Europe/Paris
BEGIN:VEVENT
UID:68@manchenumerique.fr
DTSTART:20250425T111500Z
DTEND:20250425T130000Z
DTSTAMP:20250422T095616Z
URL:https://manchenumerique.fr/evenements/bureau-syndical-du-25-04-2025/
SUMMARY:Bureau syndical du 25/04/2025
DESCRIPTION:Dans les locaux de Manche Numérique et en vidéo-conférence.\
 n\nOrdre du jour_BS 25-04-2025
CATEGORIES:Bureau syndical,Vie syndicale
END:VEVENT
END:VCALENDAR