BEGIN:VCALENDAR
VERSION:2.0
PRODID:-//wp-events-plugin.com//7.2.3.1//EN
TZID:Europe/Paris
X-WR-TIMEZONE:Europe/Paris
BEGIN:VEVENT
UID:51@manchenumerique.fr
DTSTART;TZID=Europe/Paris:20240223T121500
DTEND;TZID=Europe/Paris:20240223T134500
DTSTAMP:20240523T061618Z
URL:https://manchenumerique.fr/evenements/bureau-syndical-du-23-02-2024/
SUMMARY:Bureau syndical du 23/02/2024
DESCRIPTION:En vidéo-conférence et dans les locaux de Manche Numérique.\
 n\nOrdre du jour : 00_Ordre-du-jour_BS-23-02-2024
CATEGORIES:Bureau syndical,Vie syndicale
LOCATION:Manche Numérique\, 235 Rue Joseph Cugnot\, Zone Delta\, Saint-Lô
 \, 50000\, France
X-APPLE-STRUCTURED-LOCATION;VALUE=URI;X-ADDRESS=235 Rue Joseph Cugnot\, Zon
 e Delta\, Saint-Lô\, 50000\, France;X-APPLE-RADIUS=100;X-TITLE=Manche Num
 érique:geo:0,0
END:VEVENT
BEGIN:VTIMEZONE
TZID:Europe/Paris
X-LIC-LOCATION:Europe/Paris
BEGIN:STANDARD
DTSTART:20231029T020000
TZOFFSETFROM:+0200
TZOFFSETTO:+0100
TZNAME:CET
END:STANDARD
END:VTIMEZONE
END:VCALENDAR