BEGIN:VCALENDAR
VERSION:2.0
PRODID:-//wp-events-plugin.com//7.2.3.1//EN
TZID:Europe/Paris
X-WR-TIMEZONE:Europe/Paris
BEGIN:VEVENT
UID:59@manchenumerique.fr
DTSTART:20241018T111500Z
DTEND:20241018T130000Z
DTSTAMP:20240628T110614Z
URL:https://manchenumerique.fr/evenements/bureau-syndical-du-18-10-2024/
SUMMARY:Bureau syndical du 18/10/2024
DESCRIPTION:Dans les locaux de Manche Numérique et en vidéo-conférence.
CATEGORIES:Bureau syndical,Vie syndicale
END:VEVENT
END:VCALENDAR