BEGIN:VCALENDAR
VERSION:2.0
PRODID:-//wp-events-plugin.com//7.2.3.1//EN
TZID:Europe/Paris
X-WR-TIMEZONE:Europe/Paris
BEGIN:VEVENT
UID:46@manchenumerique.fr
DTSTART;TZID=Europe/Paris:20231117T121500
DTEND;TZID=Europe/Paris:20231117T134500
DTSTAMP:20240523T055854Z
URL:https://manchenumerique.fr/evenements/bureau-syndical-du-17-11-2023/
SUMMARY:Bureau syndical du 17/11/2023
DESCRIPTION:Ordre du jour : Ordre-du-jour_BS-17-11-2023
CATEGORIES:Bureau syndical,Vie syndicale
LOCATION:Manche Numérique\, 235 Rue Joseph Cugnot\, Zone Delta\, Saint-Lô
 \, 50000\, France
X-APPLE-STRUCTURED-LOCATION;VALUE=URI;X-ADDRESS=235 Rue Joseph Cugnot\, Zon
 e Delta\, Saint-Lô\, 50000\, France;X-APPLE-RADIUS=100;X-TITLE=Manche Num
 érique:geo:0,0
END:VEVENT
BEGIN:VTIMEZONE
TZID:Europe/Paris
X-LIC-LOCATION:Europe/Paris
BEGIN:STANDARD
DTSTART:20231029T020000
TZOFFSETFROM:+0200
TZOFFSETTO:+0100
TZNAME:CET
END:STANDARD
END:VTIMEZONE
END:VCALENDAR