BEGIN:VCALENDAR
VERSION:2.0
PRODID:-//wp-events-plugin.com//7.2.3.1//EN
TZID:Europe/Paris
X-WR-TIMEZONE:Europe/Paris
BEGIN:VEVENT
UID:69@manchenumerique.fr
DTSTART:20250606T111500Z
DTEND:20250606T130000Z
DTSTAMP:20250528T141050Z
URL:https://manchenumerique.fr/evenements/bureau-syndical-du-16-05-2025/
SUMMARY:Bureau syndical du 06/06/2025
DESCRIPTION:Dans les locaux de Manche Numérique et en vidéo-conférence.\
 n\n00_Ordre du jour_BS 06-06-2025
CATEGORIES:Bureau syndical,Vie syndicale
END:VEVENT
END:VCALENDAR