BEGIN:VCALENDAR
VERSION:2.0
PRODID:-//wp-events-plugin.com//7.2.3.1//EN
TZID:Europe/Paris
X-WR-TIMEZONE:Europe/Paris
BEGIN:VEVENT
UID:60@manchenumerique.fr
DTSTART:20241115T111500Z
DTEND:20241115T130000Z
DTSTAMP:20241115T092208Z
URL:https://manchenumerique.fr/evenements/bureau-syndical-du-15-11-2024/
SUMMARY:Bureau syndical du 15/11/2024
DESCRIPTION:Dans les locaux de Manche Numérique et en vidéo-conférence.\
 n\nOrdre du jour_BS 15-11-2024
CATEGORIES:Bureau syndical,Vie syndicale
END:VEVENT
END:VCALENDAR