BEGIN:VCALENDAR
VERSION:2.0
PRODID:-//wp-events-plugin.com//7.2.3.1//EN
TZID:Europe/Paris
X-WR-TIMEZONE:Europe/Paris
BEGIN:VEVENT
UID:67@manchenumerique.fr
DTSTART:20250314T111500Z
DTEND:20250314T130000Z
DTSTAMP:20250314T153004Z
URL:https://manchenumerique.fr/evenements/bureau-syndical-du-14-03-2025/
SUMMARY:Bureau syndical du 14/03/2025
DESCRIPTION:Dans les locaux de Manche Numérique et en vidéo-conférence.\
 n\nOrdre du jour_BS 14-03-2025
CATEGORIES:Bureau syndical,Vie syndicale
END:VEVENT
END:VCALENDAR