BEGIN:VCALENDAR
VERSION:2.0
PRODID:-//wp-events-plugin.com//7.2.3.1//EN
TZID:Europe/Paris
X-WR-TIMEZONE:Europe/Paris
BEGIN:VEVENT
UID:58@manchenumerique.fr
DTSTART:20240913T113000Z
DTEND:20240913T130000Z
DTSTAMP:20240911T075429Z
URL:https://manchenumerique.fr/evenements/bureau-syndical-du-13-09-2024/
SUMMARY:Bureau syndical du 13/09/2024
DESCRIPTION:Dans les locaux de Manche Numérique et en vidéo-conférence.\
 n\nOrdre du jour_BS 13-09-2024
CATEGORIES:Bureau syndical,Vie syndicale
END:VEVENT
END:VCALENDAR