BEGIN:VCALENDAR
VERSION:2.0
PRODID:-//wp-events-plugin.com//7.2.3.1//EN
TZID:Europe/Paris
X-WR-TIMEZONE:Europe/Paris
BEGIN:VEVENT
UID:66@manchenumerique.fr
DTSTART:20250110T111500Z
DTEND:20250110T130000Z
DTSTAMP:20250106T162214Z
URL:https://manchenumerique.fr/evenements/bureau-syndical-du-10-01-2025/
SUMMARY:Bureau syndical du 10/01/2025
DESCRIPTION:Dans les locaux de Manche Numérique et en vidéo-conférence.\
 n\nOrdre du jour_BS 10-01-2025
CATEGORIES:Bureau syndical,Vie syndicale
END:VEVENT
END:VCALENDAR