BEGIN:VCALENDAR
VERSION:2.0
PRODID:-//wp-events-plugin.com//7.2.3.1//EN
TZID:Europe/Paris
X-WR-TIMEZONE:Europe/Paris
BEGIN:VEVENT
UID:80@manchenumerique.fr
DTSTART:20260109T111500Z
DTEND:20260109T130000Z
DTSTAMP:20260108T142624Z
URL:https://manchenumerique.fr/evenements/bureau-syndical-du-09-01-2026/
SUMMARY:ANNULÉ - Bureau syndical du 09/01/2026
DESCRIPTION:En raison des conditions météorologiques défavorables annon
 cées avec l’arrivée de la tempête Goretti\, la réunion est annulée.
 \n\nOrdre du jour_BS 09-01-2026
CATEGORIES:Bureau syndical,Vie syndicale
END:VEVENT
END:VCALENDAR