BEGIN:VCALENDAR
VERSION:2.0
PRODID:-//wp-events-plugin.com//7.2.3.1//EN
TZID:Europe/Paris
X-WR-TIMEZONE:Europe/Paris
BEGIN:VEVENT
UID:61@manchenumerique.fr
DTSTART:20241206T111500Z
DTEND:20241206T130000Z
DTSTAMP:20241205T092045Z
URL:https://manchenumerique.fr/evenements/bureau-syndical-du-06-12-2024/
SUMMARY:Bureau syndical du 06/12/2024
DESCRIPTION:Dans les locaux de Manche Numérique et en vidéo-conférence.\
 n\nOrdre du jour_BS 06-12-2024
CATEGORIES:Bureau syndical,Vie syndicale
END:VEVENT
END:VCALENDAR