BEGIN:VCALENDAR
VERSION:2.0
PRODID:-//wp-events-plugin.com//7.2.3.1//EN
TZID:Europe/Paris
X-WR-TIMEZONE:Europe/Paris
BEGIN:VEVENT
UID:55@manchenumerique.fr
DTSTART:20240704T230000Z
DTEND:20240704T230000Z
DTSTAMP:20240528T123121Z
URL:https://manchenumerique.fr/evenements/20-ans-de-manche-numerique/
SUMMARY:20 ans de Manche Numérique
DESCRIPTION:Evénement privé
CATEGORIES:Manche Numérique
END:VEVENT
END:VCALENDAR